View In:
ArcGIS JavaScript
ArcGIS Online Map Viewer
ArcGIS Earth
ArcGIS Pro
Service Description:
Map Name: Map
Legend
All Layers and Tables
Dynamic Legend
Dynamic All Layers
Layers:
Description:
Copyright Text:
Spatial Reference:
103471
(8096)
LatestVCSWkid(0)
Single Fused Map Cache: true
Tile Info:
- Height: 256.0
- Width: 256.0
- DPI: 96.0
-
Levels of Detail: 24
-
Level ID: 0
[ Start Tile, End Tile ]
- Resolution: 935877.6532060036
- Scale: 1.0781332127597418E9
-
Level ID: 1
[ Start Tile, End Tile ]
- Resolution: 467938.8266030018
- Scale: 5.390666063798709E8
-
Level ID: 2
[ Start Tile, End Tile ]
- Resolution: 233969.4133015009
- Scale: 2.6953330318993545E8
-
Level ID: 3
[ Start Tile, End Tile ]
- Resolution: 116984.70665075045
- Scale: 1.3476665159496772E8
-
Level ID: 4
[ Start Tile, End Tile ]
- Resolution: 58492.353325375225
- Scale: 6.738332579748386E7
-
Level ID: 5
[ Start Tile, End Tile ]
- Resolution: 29246.176662687612
- Scale: 3.369166289874193E7
-
Level ID: 6
[ Start Tile, End Tile ]
- Resolution: 14623.088331343806
- Scale: 1.6845831449370965E7
-
Level ID: 7
[ Start Tile, End Tile ]
- Resolution: 7311.544165671903
- Scale: 8422915.724685483
-
Level ID: 8
[ Start Tile, End Tile ]
- Resolution: 3655.7720828359516
- Scale: 4211457.862342741
-
Level ID: 9
[ Start Tile, End Tile ]
- Resolution: 1827.8860414179758
- Scale: 2105728.9311713707
-
Level ID: 10
[ Start Tile, End Tile ]
- Resolution: 913.9430207089879
- Scale: 1052864.4655856853
-
Level ID: 11
[ Start Tile, End Tile ]
- Resolution: 456.97151035449394
- Scale: 526432.2327928427
-
Level ID: 12
[ Start Tile, End Tile ]
- Resolution: 228.48575517724697
- Scale: 263216.11639642133
-
Level ID: 13
[ Start Tile, End Tile ]
- Resolution: 114.24287758862349
- Scale: 131608.05819821067
-
Level ID: 14
[ Start Tile, End Tile ]
- Resolution: 57.12143879431174
- Scale: 65804.02909910533
-
Level ID: 15
[ Start Tile, End Tile ]
- Resolution: 28.56071939715587
- Scale: 32902.01454955267
-
Level ID: 16
[ Start Tile, End Tile ]
- Resolution: 14.280359698577936
- Scale: 16451.007274776333
-
Level ID: 17
[ Start Tile, End Tile ]
- Resolution: 7.140179849288968
- Scale: 8225.503637388167
-
Level ID: 18
[ Start Tile, End Tile ]
- Resolution: 3.570089924644484
- Scale: 4112.751818694083
-
Level ID: 19
[ Start Tile, End Tile ]
- Resolution: 1.785044962322242
- Scale: 2056.3759093470417
-
Level ID: 20
[ Start Tile, End Tile ]
- Resolution: 0.892522481161121
- Scale: 1028.1879546735208
-
Level ID: 21
[ Start Tile, End Tile ]
- Resolution: 0.4462612405805605
- Scale: 514.0939773367604
-
Level ID: 22
[ Start Tile, End Tile ]
- Resolution: 0.22313062029028025
- Scale: 257.0469886683802
-
Level ID: 23
[ Start Tile, End Tile ]
- Resolution: 0.11156531014514012
- Scale: 128.5234943341901
- Format: PNG
- Compression Quality: 0.0
- Origin: X: -1.1910833960936846E8
Y: 1.168538781555617E8
- Spatial Reference: 103471
(8096)
LatestVCSWkid(0)
Storage Info:
- Storage Format: esriMapCacheStorageModeCompactV2
- Packet Size: 128
Initial Extent:
XMin: 670584.833245788
YMin: 502435.626505754
XMax: 681297.2567617511
YMax: 509548.7733278571
Spatial Reference: 103471
(8096)
LatestVCSWkid(0)
Full Extent:
XMin: 600657.444979474
YMin: 399768.1576178968
XMax: 756145.1408932209
YMax: 559361.8653327227
Spatial Reference: 103471
(8096)
LatestVCSWkid(0)
Units: esriFeet
Supported Image Format Types: PNG32,PNG24,PNG,JPG,DIB,TIFF,EMF,PS,PDF,GIF,SVG,SVGZ,BMP
Document Info:
Title: Map
Author:
Comments:
Subject:
Category:
Keywords:
AntialiasingMode: None
TextAntialiasingMode: None
Supports Dynamic Layers: true
MaxRecordCount: 2000
MaxSelectionCount: 2000
MaxImageHeight: 4096
MaxImageWidth: 4096
Supported Query Formats: JSON, geoJSON, PBF
Supports Query Data Elements: true
Min Scale: 32902.01454955267
Max Scale: 128.5234943341901
Min LOD: 15
Max LOD: 23
Supports Datum Transformation: true
Child Resources:
Info
Dynamic Layer
Supported Operations:
Export Map
Identify
QueryLegends
QueryDomains
Find
Return Updates